BEGIN:VCALENDAR
VERSION:2.0
PRODID:-//MacArthur Blvd Baptist Church - ECPv5.1.5//NONSGML v1.0//EN
CALSCALE:GREGORIAN
METHOD:PUBLISH
X-WR-CALNAME:MacArthur Blvd Baptist Church
X-ORIGINAL-URL:https://macarthurblvd.org
X-WR-CALDESC:Events for MacArthur Blvd Baptist Church
BEGIN:VTIMEZONE
TZID:America/New_York
BEGIN:DAYLIGHT
TZOFFSETFROM:-0500
TZOFFSETTO:-0400
TZNAME:EDT
DTSTART:20220313T070000
END:DAYLIGHT
BEGIN:STANDARD
TZOFFSETFROM:-0400
TZOFFSETTO:-0500
TZNAME:EST
DTSTART:20221106T060000
END:STANDARD
END:VTIMEZONE
BEGIN:VEVENT
DTSTART;TZID=America/New_York:20221004T183000
DTEND;TZID=America/New_York:20221004T203000
DTSTAMP:20260421T080533
CREATED:20220926T194525Z
LAST-MODIFIED:20220926T194644Z
UID:19519-1664908200-1664915400@macarthurblvd.org
SUMMARY:Caregiving Seminar
DESCRIPTION:We are hosting a Caregiving Workshop on Tuesday\, October 4th from 6:30 to 8:30 p.m. in the Hospitality Room. \nThis session will help you identify some key components of caregiving such as assessing home safety\, organizing important documents\, identifying community resources\, and mobilizing your care network. We pray that this would be a blessing to our church family and anyone else who could benefit from this seminar. \nIf you are in need of childcare for the event\, please email Karen Tayne (ktayne@mbbcirving.org) to let her know and please include the names and ages of your children. \n
URL:https://macarthurblvd.org/event/caregiving-seminar/
LOCATION:MacArthur Blvd Baptist Church\, 8001 Mustang Dr\, Irving\, TX\, 75063\, United States
ATTACH;FMTTYPE=image/png:https://macarthurblvd.org/wp-content/uploads/2022/09/Wordpress-Events-4.png
GEO:32.9192861;-96.9555318
X-APPLE-STRUCTURED-LOCATION;VALUE=URI;X-ADDRESS=MacArthur Blvd Baptist Church 8001 Mustang Dr Irving TX 75063 United States;X-APPLE-RADIUS=500;X-TITLE=8001 Mustang Dr:geo:-96.9555318,32.9192861
END:VEVENT
END:VCALENDAR