BEGIN:VCALENDAR
VERSION:2.0
PRODID:-//MacArthur Blvd Baptist Church - ECPv5.1.5//NONSGML v1.0//EN
CALSCALE:GREGORIAN
METHOD:PUBLISH
X-WR-CALNAME:MacArthur Blvd Baptist Church
X-ORIGINAL-URL:https://macarthurblvd.org
X-WR-CALDESC:Events for MacArthur Blvd Baptist Church
BEGIN:VTIMEZONE
TZID:America/New_York
BEGIN:DAYLIGHT
TZOFFSETFROM:-0500
TZOFFSETTO:-0400
TZNAME:EDT
DTSTART:20210314T070000
END:DAYLIGHT
BEGIN:STANDARD
TZOFFSETFROM:-0400
TZOFFSETTO:-0500
TZNAME:EST
DTSTART:20211107T060000
END:STANDARD
END:VTIMEZONE
BEGIN:VEVENT
DTSTART;TZID=America/New_York:20211205T190000
DTEND;TZID=America/New_York:20211205T203000
DTSTAMP:20260419T142520
CREATED:20211123T152024Z
LAST-MODIFIED:20211201T214830Z
UID:18260-1638730800-1638736200@macarthurblvd.org
SUMMARY:Surviving the Holidays
DESCRIPTION:We know not everyone looks forward to the holiday season. On Sunday\, December 5th from 6:00 to 7:30 p.m.\, one of our church members\, Melissa Walton\, is hosting a “Surviving the Holidays” workshop in Room B203 at the top of the foyer stairs. If you’re grieving and dreading the holidays\, or know someone who is\, consider joining us for this workshop or sharing with someone who might benefit. \n
URL:https://macarthurblvd.org/event/surviving-the-holidays/
LOCATION:MacArthur Blvd Baptist Church\, 8001 Mustang Dr\, Irving\, TX\, 75063\, United States
ATTACH;FMTTYPE=image/png:https://macarthurblvd.org/wp-content/uploads/2021/11/Womens-Christmas-Dinner.WP-1.png
GEO:32.9192861;-96.9555318
X-APPLE-STRUCTURED-LOCATION;VALUE=URI;X-ADDRESS=MacArthur Blvd Baptist Church 8001 Mustang Dr Irving TX 75063 United States;X-APPLE-RADIUS=500;X-TITLE=8001 Mustang Dr:geo:-96.9555318,32.9192861
END:VEVENT
END:VCALENDAR